BEGIN:VCALENDAR
VERSION:2.0
PRODID:-//wp-events-plugin.com//7.2.3.1//EN
TZID:Europe/Berlin
X-WR-TIMEZONE:Europe/Berlin
BEGIN:VEVENT
UID:642@gleisdreieck-blog.de
DTSTART;TZID=Europe/Berlin:20240801T193000
DTEND;TZID=Europe/Berlin:20240801T193000
DTSTAMP:20240613T155204Z
URL:https://gleisdreieck-blog.de/events/wasser-klima-stadt-gespraech-zu-kl
 ima-und-stadtentwicklung/
SUMMARY:Wasser Klima Stadt - Gespräch zu Klima und Stadtentwicklung
DESCRIPTION:\nDie menschengemachte Klimakrise hat drastische Auswirkungen a
 uf das Leben in der Stadt.\nDie Städte müssen sich rüsten gegen extreme
  Hitze\, Überschwemmungen und Wassermangel. All diese Gefahren hängen mi
 t der Versiegelung des Bodens zusammen. Wasser\, das nicht in den Boden ge
 langt\, kann von diesem auch nicht gespeichert werden\; zubetonierte Fläc
 hen erhöhen die Lufttemperatur.\n\nWas brauchen Städte der Zukunft\, um 
 Wasserversorgung\, Abkühlung und eine lebendige Stadtnatur zu gewährleis
 ten?\nWelche stadtplanerischen Ansätze existieren\, um die Stadt klimares
 ilienter zu machen? Und in welchem Verhältnis stehen dabei Stadt und Umla
 nd?\n\nDiese Fragen diskutieren wir mit Elke Plate\, Mitglied der Landesgr
 uppe Berlin-Brandenburg der Deutsche Akademie für Städtebau und Landespl
 anung e.V.\n\nOrt: Fluss Bad Garten\, Sperlingsgasse 1\, Berlin\n\nVor dem
  Gespräch findet bereits um 17:30 Uhr eine Führung vom Fluss Bad Berlin 
 entlang des Spreekanals statt.\n\n\nhttps://museumderdinge.de/veranstaltun
 gen/wasser-klima-stadt-gespraech-zu-klima-und-stadtentwicklung/
CATEGORIES:Termine
LOCATION:Fluss Bad Garten\, Sperlingsgasse 1\, Berlin\, 10178\, Deutschland
X-APPLE-STRUCTURED-LOCATION;VALUE=URI;X-ADDRESS=Sperlingsgasse 1\, Berlin\,
  10178\, Deutschland;X-APPLE-RADIUS=100;X-TITLE=Fluss Bad Garten:geo:0,0
END:VEVENT
BEGIN:VTIMEZONE
TZID:Europe/Berlin
X-LIC-LOCATION:Europe/Berlin
BEGIN:DAYLIGHT
DTSTART:20240331T030000
TZOFFSETFROM:+0100
TZOFFSETTO:+0200
TZNAME:CEST
END:DAYLIGHT
END:VTIMEZONE
END:VCALENDAR