BEGIN:VCALENDAR
VERSION:2.0
PRODID:-//wp-events-plugin.com//7.2.3.1//EN
TZID:Europe/Berlin
X-WR-TIMEZONE:Europe/Berlin
BEGIN:VEVENT
UID:659@gleisdreieck-blog.de
DTSTART;TZID=Europe/Berlin:20250406T110000
DTEND;TZID=Europe/Berlin:20250406T160000
DTSTAMP:20250405T161718Z
URL:https://gleisdreieck-blog.de/events/wahlstand-am-stellwerk/
SUMMARY:Wahlstand am Stellwerk
DESCRIPTION:Hier sind die Plakate der Kandidatinnen für den Parkbeirat aus
 gestellt.&nbsp\; Am Sonntag können sie dort vor Ort von 11 bis 16 Uhr&nbs
 p\; Ihre Stimmen abgeben oder sich den Zugang für die Onlinewahl geben la
 ssen.\n\nMehr information auf der Seite von Grün Berlin:&nbsp\;\n\nhttps:
 //www.parkamgleisdreieck.de/beteiligung-akteure/nutzerinnenbeirat/beiratsw
 ahl/\n\n&nbsp\;\n\n&nbsp\;
CATEGORIES:Termine
LOCATION:Poststellwerk / Skateranlage\, Gleisdreieck\, Berlin\, Deutschland
GEO:52.496029;13.373709
X-APPLE-STRUCTURED-LOCATION;VALUE=URI;X-ADDRESS=Gleisdreieck\, Berlin\, Deu
 tschland;X-APPLE-RADIUS=100;X-TITLE=Poststellwerk / Skateranlage:geo:52.49
 6029,13.373709
END:VEVENT
BEGIN:VTIMEZONE
TZID:Europe/Berlin
X-LIC-LOCATION:Europe/Berlin
BEGIN:DAYLIGHT
DTSTART:20250330T030000
TZOFFSETFROM:+0100
TZOFFSETTO:+0200
TZNAME:CEST
END:DAYLIGHT
END:VTIMEZONE
END:VCALENDAR