BEGIN:VCALENDAR
VERSION:2.0
PRODID:-//wp-events-plugin.com//7.2.3.1//EN
TZID:Europe/Berlin
X-WR-TIMEZONE:Europe/Berlin
BEGIN:VEVENT
UID:290@gleisdreieck-blog.de
DTSTART;TZID=Europe/Berlin:20170909T190000
DTEND;TZID=Europe/Berlin:20170909T190000
DTSTAMP:20170905T123841Z
URL:https://gleisdreieck-blog.de/events/verrueckt-nach-worten-deutsche-lit
 eratur-aus-berlin/
SUMMARY:Verrückt nach Worten - Deutsche Literatur aus Berlin
DESCRIPTION:Charme-Offensive Potsdamer Straße\nVerrückt nach Worten* – 
 Deutsche Literatur aus Berlin\nLesung und Gespräch mit\n\nZehra Çırak\,
  Lyrikerin\nİmran Ayata\, Autor\nGülşen Aktaş\, Leserin\n\nModeration 
 Sibylle Nägele und Joy Markert\n\nSamstag\, 9. September 2017\, 19 Uhr\nH
 UZUR Nachbarschaftstreffpunkt\, Bülowstraße 94\, 10783 Berlin\nU2 Bülow
 straße\, Bus M19\, M48\, M85\, 106\, 187 Bülowstraße Eintritt frei\n\nS
 amstag – 9. September 2017 – 19 Uhr\nLesung und Gespräch\nHUZUR – B
 ülowstraße 94 – Eintritt frei\n\nVerrückt nach Worten - Deutsche Lite
 ratur aus Berlin\nZehra Çırak\nFlugfänger – Vogel auf dem Rücken ein
 es Elefanten – Fremde Flügel auf\neigener Schulter – Leibesübungen\,
  Gedichtbände – In Bewegung\, Gedichte und Prosaminiaturen – Der\nGer
 uch von Glück\, Erzählungen – Die Kunst der Wissenschaft\, Texte zu Ob
 jekten von Jürgen Walter\nİmran Ayata\nHürriyet Love Express\, Erzählu
 ngen – Mein Name ist Revolution\, Roman – Songs of Gastarbeiter Vol. 1
 \, CD-Kompilation zusammen mit Bülent Kullukçu – Liga der Verdammten\,
  Theaterstück – Ruhm und Ruin. Roman in elf Geschichten\n\n\n\nPlakat-C
 harme-HUZUR-090917-pdf\n\nKarten-CharmeIII-HUZUR-090917-pdf
CATEGORIES:Termine
LOCATION:Huzur\, Bülowstraße 94\, Berlin\, 10783\, Deutschland
GEO:52.49888;13.359900000000039
X-APPLE-STRUCTURED-LOCATION;VALUE=URI;X-ADDRESS=Bülowstraße 94\, Berlin\,
  10783\, Deutschland;X-APPLE-RADIUS=100;X-TITLE=Huzur:geo:52.49888,13.3599
 00000000039
END:VEVENT
BEGIN:VTIMEZONE
TZID:Europe/Berlin
X-LIC-LOCATION:Europe/Berlin
BEGIN:DAYLIGHT
DTSTART:20170326T030000
TZOFFSETFROM:+0100
TZOFFSETTO:+0200
TZNAME:CEST
END:DAYLIGHT
END:VTIMEZONE
END:VCALENDAR