BEGIN:VCALENDAR
VERSION:2.0
PRODID:-//wp-events-plugin.com//7.2.3.1//EN
TZID:Europe/Berlin
X-WR-TIMEZONE:Europe/Berlin
BEGIN:VEVENT
UID:685@gleisdreieck-blog.de
DTSTART;TZID=Europe/Berlin:20260203T130000
DTEND;TZID=Europe/Berlin:20260203T130000
DTSTAMP:20260122T154146Z
URL:https://gleisdreieck-blog.de/events/unterlassungklage-urbane-mitte-bes
 itz-s-a-r-l-aktionsgemeinschaft-gleisdreieck-e-v/
SUMMARY:Verschoben: Unterlassungklage\, Urbane Mitte Besitz S.à.r.l. ./. A
 ktionsgemeinschaft Gleisdreieck e.V.
DESCRIPTION:Der Termin am 3. Februar wurde abgesagt\, diesmal auf Wunsch de
 r Gegenseite\, ein neuer Termin steht noch nicht fest.&nbsp\;\n\nMehr Info
 rmation: https://gleisdreieck-blog.de/tag/unterlassungsklage/\n
CATEGORIES:Termine
LOCATION:Landgericht\, Tegeler Weg 17 bis 21\, Berlin\, 10589\, Deutschland
X-APPLE-STRUCTURED-LOCATION;VALUE=URI;X-ADDRESS=Tegeler Weg 17 bis 21\, Ber
 lin\, 10589\, Deutschland;X-APPLE-RADIUS=100;X-TITLE=Landgericht:geo:0,0
END:VEVENT
BEGIN:VTIMEZONE
TZID:Europe/Berlin
X-LIC-LOCATION:Europe/Berlin
BEGIN:STANDARD
DTSTART:20251026T020000
TZOFFSETFROM:+0200
TZOFFSETTO:+0100
TZNAME:CET
END:STANDARD
END:VTIMEZONE
END:VCALENDAR