BEGIN:VCALENDAR
VERSION:2.0
PRODID:-//wp-events-plugin.com//7.2.3.1//EN
TZID:Europe/Berlin
X-WR-TIMEZONE:Europe/Berlin
BEGIN:VEVENT
UID:673@gleisdreieck-blog.de
DTSTART;TZID=Europe/Berlin:20251013T100000
DTEND;TZID=Europe/Berlin:20251013T100000
DTSTAMP:20251009T143840Z
URL:https://gleisdreieck-blog.de/events/unterlassungenklage-vor-dem-landge
 richt/
SUMMARY:Unterlassungsklage vor dem Landgericht - neuer Termin
DESCRIPTION:Der Gerichtstermin für die Unterlassungsklage der Urbanen Mitt
 e Besitz S.à.r.l. gegen Matthias Bauer wurde schon wieder verlegt\, nun z
 um vierten Mal schon! Der neue Termin ist am\n\nMontag\, 13.10.2025 um 10:
 00 Uhr\n\nLandgericht Berlin II\nSitzungssaal E 204\, 2. Etage\nErweiterun
 gsbau\n Der Verhandlung wurde in einen größeren Saal verlegt. Neu: Sitzu
 ngssaal 105\, 1. Etage.\nTegeler Weg 17-21\n10589 Berlin\n\nDie Unterlassu
 ngsklage der Urbanen Mitte Besitz S.à.r.l. gegen die Aktionsgemeinschaft 
 Gleisdreieck e.V. sollte am 24.09.25 stattfinden\, wurde auf Antrag der Ge
 genseite verschoben. Ein neuer Termin steht noch nicht fest!
LOCATION:Landgericht\, Tegeler Weg 17 bis 21\, Berlin\, 10589\, Deutschland
X-APPLE-STRUCTURED-LOCATION;VALUE=URI;X-ADDRESS=Tegeler Weg 17 bis 21\, Ber
 lin\, 10589\, Deutschland;X-APPLE-RADIUS=100;X-TITLE=Landgericht:geo:0,0
END:VEVENT
BEGIN:VTIMEZONE
TZID:Europe/Berlin
X-LIC-LOCATION:Europe/Berlin
BEGIN:DAYLIGHT
DTSTART:20250330T030000
TZOFFSETFROM:+0100
TZOFFSETTO:+0200
TZNAME:CEST
END:DAYLIGHT
END:VTIMEZONE
END:VCALENDAR