BEGIN:VCALENDAR
VERSION:2.0
PRODID:-//wp-events-plugin.com//7.2.3.1//EN
TZID:Europe/Berlin
X-WR-TIMEZONE:Europe/Berlin
BEGIN:VEVENT
UID:291@gleisdreieck-blog.de
DTSTART;TZID=Europe/Berlin:20170914T163000
DTEND;TZID=Europe/Berlin:20170914T163000
DTSTAMP:20170910T123938Z
URL:https://gleisdreieck-blog.de/events/the-brachen-of-berlin-der-film/
SUMMARY:The Brachen of Berlin - der Film
DESCRIPTION:Eine interessante Einladung in bestem Denglisch (The Sprachen o
 f Berlin):\n&nbsp\;\nThe Brachen of Berlin\n&nbsp\;\nProf. Matthew Gandy 
 über Grünräume [Knottex] in der Stadt.\n&nbsp\;\nAm 14.9.\, 16.30 stell
 t er seinen aktuellen Film vor\, im Kino Arsenal: The Brachen of Berlin.\n
 Die Vorführung ist gratis und vermutlich nicht nur sprachlich ein Erlebni
 s - seguro!\n&nbsp\;\nWebseite mit näheren Infos und Trailer des Films:\n
 http://www.naturaurbana.org\n&nbsp\;
CATEGORIES:Termine
LOCATION:Kino Arsenal\, Potsdamer Straße 2\,  Berlin\, 10785\, Deutschland
GEO:52.5095362;13.374674400000004
X-APPLE-STRUCTURED-LOCATION;VALUE=URI;X-ADDRESS=Potsdamer Straße 2\,  Berl
 in\, 10785\, Deutschland;X-APPLE-RADIUS=100;X-TITLE=Kino Arsenal:geo:52.50
 95362,13.374674400000004
END:VEVENT
BEGIN:VTIMEZONE
TZID:Europe/Berlin
X-LIC-LOCATION:Europe/Berlin
BEGIN:DAYLIGHT
DTSTART:20170326T030000
TZOFFSETFROM:+0100
TZOFFSETTO:+0200
TZNAME:CEST
END:DAYLIGHT
END:VTIMEZONE
END:VCALENDAR