BEGIN:VCALENDAR
VERSION:2.0
PRODID:-//wp-events-plugin.com//7.2.3.1//EN
TZID:Europe/Berlin
X-WR-TIMEZONE:Europe/Berlin
BEGIN:VEVENT
UID:292@gleisdreieck-blog.de
DTSTART;TZID=Europe/Berlin:20170916T140000
DTEND;TZID=Europe/Berlin:20170916T200000
DTSTAMP:20170911T184221Z
URL:https://gleisdreieck-blog.de/events/tag-der-offenen-kultur-natur-park-
 suedgelaende/
SUMMARY:Tag der offenen Kultur | Natur-Park Südgelände
DESCRIPTION:Samstag\, 16. September | Tag der offenen Kultur | Natur-Park S
 üdgelände \n\n14 Uhr – 20 Uhr \n\n&gt\;die Kunst ist der nächste Nach
 bar der Wildnis&lt\; sagt Karl Ganser.\n\nDementsprechend beherzt öffnen 
 die engagierten Managerinnen und Mitarbeiter dem Fachbereich Dezentrale Ku
 lturarbeit und den vielen Akteuren\, die in einem engen Zusammenspiel mit 
 dem Fachbereich stehen\, das Gartentor des Natur-Parks Südgelände.\n\nWi
 lde Natur über vergessener Technik. Auf dem Gebiet des ehemaligen Rangier
 bahnhofs in Berlin- Tempelhof ist eine einzigartige Naturlandschaft mit ma
 rkanten Relikten der Dampflok-Ära entstanden.\n\n… und los geht es!\n\n
 Entdecken Sie zwischen Bäumen\, Gleisen\, Halmen und Steinen offensichtli
 che oder auch versteckte Bühnen und Aktionsorte.\n\nEs wird gebastelt\, i
 nformiert\, gelauscht.\n\nHörspiele im Liegestuhl\, u.a. vom Museum der u
 nerhörten Dinge\, Luci van Org oder Joy Markert\, Videokunst im Tunnel mi
 t dem Ausnahme-Lichtdesigner Rick Kay\, Lesungen und Stabpuppentheater unt
 er einem Zeltdach\, eine Klanginstallation von Thomas Gerwin in der Röhre
 \;\n\nzwischen Bäumen Akteure\, die Sie in eine andere Welt locken.\n\nCh
 öre\, Ensembles\, Artisten\, Ausstellungen\, … die Meisterin des Akkord
 eons\, Cathrin Pfeifer mit ihrer Band\;\n\ndie kreolische Sängerin MFA Ke
 ra\; der Gospelchor Lichtenrade\; die Kinder des  ufaCircus\,\n\ntreibende
  Basslinien der Rhythmussektion Orange und das Trommelfeuer von Terra Bras
 ilis aus der ufaFabrik.\n\nDas Sinfonieorchester Schöneberg und das Kamme
 rorchester Schöneberg finden Sie in der ehemaligen Drehscheibe.\n\n&nbsp\
 ;\n\n… und da sind ja auch die kleinen Naturwesen\, gebastelt von den gr
 oßen und kleinen Besuchern\, zusammen mit den Kulturverschwörern. Die Na
 turwesen werden dann in die Wildnis entlassen. Mal schauen\, wo sie bei ei
 nem erneuten Besuch auf dem Südgelände wieder anzutreffen sind.\n\nSie w
 erden sich sicher\, so wie Sie\, auf eine Schatzsuche begeben?!\n\n\n\nEs 
 begrüßt Sie die Bezirksstadträtin für Bildung\, Kultur und Soziales\, 
 Jutta Kaddatz.\n\nKommen Sie und entdecken Sie für nur &nbsp\;1€ Parkei
 ntritt.\n\n&nbsp\;\n\nIm Anhang ein Zeitplan und der Entwurf einer Schatzk
 arte zu Ihrer Information.\n\nDie vielen Akteure und ich freuen sich auf I
 hr Kommen.\n\n&nbsp\;&nbsp\;&nbsp\;&nbsp\;&nbsp\;&nbsp\;&nbsp\;&nbsp\;&nbs
 p\;&nbsp\;&nbsp\;&nbsp\;&nbsp\;&nbsp\;&nbsp\;&nbsp\;&nbsp\;&nbsp\;&nbsp\;&
 nbsp\;&nbsp\;&nbsp\;&nbsp\;&nbsp\;&nbsp\;&nbsp\;&nbsp\;&nbsp\;&nbsp\;&nbsp
 \;&nbsp\;&nbsp\;&nbsp\;&nbsp\;&nbsp\;&nbsp\;&nbsp\;&nbsp\;&nbsp\;&nbsp\;&n
 bsp\;&nbsp\;&nbsp\;&nbsp\;&nbsp\;&nbsp\;&nbsp\;&nbsp\;&nbsp\;&nbsp\; Ute K
 narr-Herriger\n\n&nbsp\;&nbsp\;&nbsp\;&nbsp\;&nbsp\;&nbsp\;&nbsp\;&nbsp\;&
 nbsp\;&nbsp\;&nbsp\;&nbsp\;&nbsp\;&nbsp\;&nbsp\;&nbsp\;&nbsp\;&nbsp\;&nbsp
 \;&nbsp\;&nbsp\;&nbsp\;&nbsp\;&nbsp\;&nbsp\;&nbsp\;&nbsp\;&nbsp\;&nbsp\;&n
 bsp\;&nbsp\;&nbsp\;&nbsp\;&nbsp\;&nbsp\;&nbsp\;&nbsp\;&nbsp\;&nbsp\;&nbsp\
 ;&nbsp\;&nbsp\;&nbsp\;&nbsp\;&nbsp\;Dezentrale Kulturarbeit\n\nTempelhof-S
 chöneberg I John-F.-Kennedy-Platz I 10820 Berlin I 90277 – 4347\n\n&nbs
 p\;&nbsp\;&nbsp\;&nbsp\;&nbsp\;&nbsp\;&nbsp\;&nbsp\;&nbsp\;&nbsp\;&nbsp\;&
 nbsp\;&nbsp\;&nbsp\;&nbsp\;&nbsp\;&nbsp\;&nbsp\;&nbsp\;&nbsp\;&nbsp\;&nbsp
 \;&nbsp\;&nbsp\;&nbsp\;&nbsp\;&nbsp\;&nbsp\;&nbsp\;&nbsp\; www.dezentrale-
 kulturarbeit.de/Kulturblog\n\n16-Sept_Tag-der-offenen-Kultur_Zeitplan PDF-
 Dokument\n\n&nbsp\;
CATEGORIES:Termine
LOCATION:Naturpark Südgelände\, Prellerweg 47-49\, Berlin \, 12157\, Deut
 schland
GEO:52.45909;13.357809999999972
X-APPLE-STRUCTURED-LOCATION;VALUE=URI;X-ADDRESS=Prellerweg 47-49\, Berlin \
 , 12157\, Deutschland;X-APPLE-RADIUS=100;X-TITLE=Naturpark Südgelände:ge
 o:52.45909,13.357809999999972
END:VEVENT
BEGIN:VTIMEZONE
TZID:Europe/Berlin
X-LIC-LOCATION:Europe/Berlin
BEGIN:DAYLIGHT
DTSTART:20170326T030000
TZOFFSETFROM:+0100
TZOFFSETTO:+0200
TZNAME:CEST
END:DAYLIGHT
END:VTIMEZONE
END:VCALENDAR