BEGIN:VCALENDAR
VERSION:2.0
PRODID:-//wp-events-plugin.com//7.2.3.1//EN
TZID:Europe/Berlin
X-WR-TIMEZONE:Europe/Berlin
BEGIN:VEVENT
UID:404@gleisdreieck-blog.de
DTSTART;TZID=Europe/Berlin:20190609T140000
DTEND;TZID=Europe/Berlin:20190609T160000
DTSTAMP:20190504T153605Z
URL:https://gleisdreieck-blog.de/events/stadtspaziergang-auf-der-spur-der-
 menschenrechte-die-rote-insel-in-berlin-schoeneberg-14/
SUMMARY:Stadtspaziergang: Auf der Spur der Menschenrechte - die „Rote Ins
 el“ in Berlin-Schöneberg
DESCRIPTION:Mit: Martin Forberg (MA Neuere Geschichte\; Dozent und freier J
 ournalist)\n\nZeit:\n\n14:00 – 16:00 Uhr\n\nTreffpunkt:\n\nFahrradständ
 er am S-Bahnhof Julius-Leber-Brücke\, in der Nähe des Cafés "Ess Eins".
 \n\nTeilnahmebeitrag:\n\n10\,00/5\,00 €\n\n***********************\n\nDi
 e „Rote Insel“ in Schöneberg ist ein kleiner\, dicht bebauter Berline
 r „Kiez“\, in dem sich Geschichte und Gegenwart ein spannendes Stelldi
 chein geben. Die berühmtesten Gebäude sind das ehemalige Gasometer und d
 ie Königin-Luise-Gedächtniskirche.\n\nAuf dem Spaziergang werden die Men
 schenrechte in ihrer Vielfalt am Beispiel konkreter Orte vorgestellt\, z.B
 . das Recht auf Bildung\, auf den Schutz vor rassistischer Diskriminierung
  und vor allen anderen Formen von Benachteiligung.\n\nWeitere Themen sind 
 u.a.: Frauenrechte\, das Recht auf bezahlbaren Wohnraum\, die Menschenrech
 te von Geflüchteten\, Kinderrechte und das Recht auf eine inklusive Gesel
 lschaft\, die den verschiedenen Bedürfnissen der Menschen gerecht wird.\n
 \n************************************************************************
 ****************************************\n\nDie „Rote Insel“ war ein S
 chwerpunkt des sozialdemokratischen und kommunistischen Widerstandes gegen
  die Nazidiktatur. Berühmt wurden Julius und Annedore Leber. Rund um dere
 n ehemalige Kohlenhandlung entsteht eine Gedenkstätte\, die von engagiert
 en Bürgerinnen und Bürgern initiiert wurde.\n\nDer Weg führt auch zum G
 eburtshaus von Marlene Dietrich. Berühmte Schauspielerinnen und Schauspie
 ler mit Roma-Herkunft werden vorgestellt\, von denen dies kaum bekannt ist
 . Das ehemalige Kaufhaus Lesser ist ein Beispiel für die Diskriminierung 
 von jüdischen Schöneberger-innen und Schönebergern in der Nazizeit. Es 
 geht natürlich auch um Initiativen gegen antijüdischen\, antimuslimische
 n und romafeindlichen Rassismus in der Gegenwart.\n\n******************\n\
 nVielfalt war immer ein Markenzeichen der Roten Insel: Ende des 19.Jahrhun
 derts wanderten Menschen aus vorwiegend katholischen Gegenden zu. Heute le
 ben und arbeiten hier Einwander_innen und ihre Kinder aus vielen Ländern:
  aus der Türkei\, aus Ländern der EU\, des Nahen Ostens\, Afrikas und La
 teinamerikas.\n\nVielfältig ist auch die soziale Zusammensetzung der Bev
 ölkerung: traditionell ein Wohngebiet der kleinen Leute\, sind in den let
 zten Jahren Angehörige der Mittelschichten hinzu gekommen. Preiswerte und
  teurere Wohnungen wechseln sich ab.
CATEGORIES:Termine
LOCATION:Fahrradständer am S-Bahnhof Julius-Leber-Brücke\, in der Nähe d
 es Cafés "Ess Eins"\, Julius-Leber-Brücke\, Berlin\, Deutschland
GEO:52.48637859999999;13.361143900000002
X-APPLE-STRUCTURED-LOCATION;VALUE=URI;X-ADDRESS=Julius-Leber-Brücke\, Berl
 in\, Deutschland;X-APPLE-RADIUS=100;X-TITLE=Fahrradständer am S-Bahnhof J
 ulius-Leber-Brücke\, in der Nähe des Cafés \"Ess Eins\":geo:52.48637859
 999999,13.361143900000002
END:VEVENT
BEGIN:VTIMEZONE
TZID:Europe/Berlin
X-LIC-LOCATION:Europe/Berlin
BEGIN:DAYLIGHT
DTSTART:20190331T030000
TZOFFSETFROM:+0100
TZOFFSETTO:+0200
TZNAME:CEST
END:DAYLIGHT
END:VTIMEZONE
END:VCALENDAR