BEGIN:VCALENDAR
VERSION:2.0
PRODID:-//wp-events-plugin.com//7.2.3.1//EN
TZID:Europe/Berlin
X-WR-TIMEZONE:Europe/Berlin
BEGIN:VEVENT
UID:647@gleisdreieck-blog.de
DTSTART;TZID=Europe/Berlin:20240912T163000
DTEND;TZID=Europe/Berlin:20240912T183000
DTSTAMP:20240829T094328Z
URL:https://gleisdreieck-blog.de/events/rundgang-zum-bauvorhaben-urbane-mi
 tte-am-gleisdreieck/
SUMMARY:Rundgang zum Bauvorhaben Urbane Mitte am Gleisdreieck
DESCRIPTION:\nRundgang zum Bauvorhaben Urbane Mitte am Gleisdreieck\n\nmit 
 Patrick Vater\, Aktionsgmeinschaft Gleisdreieck e.V.\n\n&nbsp\;\n\n\nTreff
  U-Bahnhof Gleisdreieck\, Ausgang zur Luckenwalder Straße. Ein Rundgang m
 it Blicken in die Geschichte und Zukunft des Geländes: Eiserne Landschaft
 \, ungeplantes Grün\, gescheiterte Autobahn\, gestalteter Park\, benachba
 rte Baufelder\, Bodenspekulation.\n\n\nim Rahmen der Kiezwoche:\n\nhttps:/
 /www.kiez-am-kreuzberg.de/kiezwoche-2024/
CATEGORIES:Termine
END:VEVENT
BEGIN:VTIMEZONE
TZID:Europe/Berlin
X-LIC-LOCATION:Europe/Berlin
BEGIN:DAYLIGHT
DTSTART:20240331T030000
TZOFFSETFROM:+0100
TZOFFSETTO:+0200
TZNAME:CEST
END:DAYLIGHT
END:VTIMEZONE
END:VCALENDAR