BEGIN:VCALENDAR
VERSION:2.0
PRODID:-//wp-events-plugin.com//7.2.3.1//EN
TZID:Europe/Berlin
X-WR-TIMEZONE:Europe/Berlin
BEGIN:VEVENT
UID:411@gleisdreieck-blog.de
DTSTART;TZID=Europe/Berlin:20190519T120000
DTEND;TZID=Europe/Berlin:20190519T170000
DTSTAMP:20190505T101749Z
URL:https://gleisdreieck-blog.de/events/projektwochen-fuer-kinder-mit-baum
 schlau-am-cafe-eule-6/
SUMMARY:Projektwochen für Kinder mit Baumschlau am Café Eule
DESCRIPTION:jeweils samstags und sonntags ab 12:00 Uhr | von Mai bis Juni 2
 019\nProjektwochen mit Baumschlau am Café Eule\nNatur und Umwelt für Kin
 der im Park am Gleisdreieck\n\nKinder haben die Möglichkeit zu basteln\, 
 Naturerfahrungen zu sammeln und verschiedene Projekte mit zu erleben.\n\nK
 osten: kostenfrei | um Spenden wird gebeten\n\nOrt / Start: Kreuzberg\, B
 ülow Straße 68\, 10783 Berlin\, Park am Gleisdreieck\, Eingang Westpark\
 , Café Eule\n\nAnfahrt: Dennewitzplatz (Bus M19) | U Bülowstraße (U2\, 
 Bus 106\, 187\, M19\, M48\, M85)\n\nhttp://www.baumschlau.de/
CATEGORIES:Café Eule
LOCATION:Café Eule\, Marktplatz\, Westpark des Gleisdreiecks\, Berlin\, De
 utschland
GEO:52.498011;13.368768
X-APPLE-STRUCTURED-LOCATION;VALUE=URI;X-ADDRESS=Westpark des Gleisdreiecks\
 , Berlin\, Deutschland;X-APPLE-RADIUS=100;X-TITLE=Café Eule\, Marktplatz:
 geo:52.498011,13.368768
END:VEVENT
BEGIN:VTIMEZONE
TZID:Europe/Berlin
X-LIC-LOCATION:Europe/Berlin
BEGIN:DAYLIGHT
DTSTART:20190331T030000
TZOFFSETFROM:+0100
TZOFFSETTO:+0200
TZNAME:CEST
END:DAYLIGHT
END:VTIMEZONE
END:VCALENDAR