BEGIN:VCALENDAR
VERSION:2.0
PRODID:-//wp-events-plugin.com//7.2.3.1//EN
TZID:Europe/Berlin
X-WR-TIMEZONE:Europe/Berlin
BEGIN:VEVENT
UID:683@gleisdreieck-blog.de
DTSTART;TZID=Europe/Berlin:20251120T190000
DTEND;TZID=Europe/Berlin:20251120T190000
DTSTAMP:20251105T160035Z
URL:https://gleisdreieck-blog.de/events/praeventionsrat-schoeneberger-nord
 en-3/
SUMMARY:Präventionsrat Schöneberger Norden
DESCRIPTION:
CATEGORIES:Termine
LOCATION:Huzur\, Bülowstraße 94\, Berlin\, 10783\, Deutschland
GEO:52.49888;13.359900000000039
X-APPLE-STRUCTURED-LOCATION;VALUE=URI;X-ADDRESS=Bülowstraße 94\, Berlin\,
  10783\, Deutschland;X-APPLE-RADIUS=100;X-TITLE=Huzur:geo:52.49888,13.3599
 00000000039
END:VEVENT
BEGIN:VTIMEZONE
TZID:Europe/Berlin
X-LIC-LOCATION:Europe/Berlin
BEGIN:STANDARD
DTSTART:20251026T020000
TZOFFSETFROM:+0200
TZOFFSETTO:+0100
TZNAME:CET
END:STANDARD
END:VTIMEZONE
END:VCALENDAR