BEGIN:VCALENDAR
VERSION:2.0
PRODID:-//wp-events-plugin.com//7.2.3.1//EN
TZID:Europe/Berlin
X-WR-TIMEZONE:Europe/Berlin
BEGIN:VEVENT
UID:639@gleisdreieck-blog.de
DTSTART;TZID=Europe/Berlin:20240523T173000
DTEND;TZID=Europe/Berlin:20240523T173000
DTSTAMP:20240515T182744Z
URL:https://gleisdreieck-blog.de/events/oeffentliche-sitzung-des-ausschuss
 -fuer-stadtentwicklung-im-rathaus-kreuzberg/
SUMMARY:Kundgebung vor dem Rathaus Kreuzberg\, dann öffentliche Sitzung de
 s Ausschuss für Stadtentwicklung
DESCRIPTION:Aus der Tagesordnung:\n\n 	Hafenplatz: Alle müssen bleiben - S
 chutz der Mieter*innen gewährleisten\, DS/1136/VI\n 	Urbane Mitte\, Profe
 ssor Dr. Beckmann wird das Gutachten\n„BEDEUTUNG DES STÄDTEBAULICHEN RA
 HMEN-VERTRAGES ZUM GLEISDREIECK VOM 27.09.2005 FÜR DIE ABWÄGUNG DES BEBA
 UUNGSPLANS VI-140CAB „URBANE MITTE SÜD“ DES BEZIRKSAMTS FRIEDRICHSHAI
 N-KREUZBERG VON BERLIN“\nerläutern\n\nAktualisierte Tagesordnung als PD
 F-Dokument\, StadtWohn 2024-05-23_E\n\n
CATEGORIES:Termine
LOCATION:Rathaus Kreuzberg\, Yorckstraße 4-11\, Berlin\, Deutschland
GEO:52.493452;13.38584000000003
X-APPLE-STRUCTURED-LOCATION;VALUE=URI;X-ADDRESS=Yorckstraße 4-11\, Berlin\
 , Deutschland;X-APPLE-RADIUS=100;X-TITLE=Rathaus Kreuzberg:geo:52.493452,1
 3.38584000000003
END:VEVENT
BEGIN:VTIMEZONE
TZID:Europe/Berlin
X-LIC-LOCATION:Europe/Berlin
BEGIN:DAYLIGHT
DTSTART:20240331T030000
TZOFFSETFROM:+0100
TZOFFSETTO:+0200
TZNAME:CEST
END:DAYLIGHT
END:VTIMEZONE
END:VCALENDAR