BEGIN:VCALENDAR
VERSION:2.0
PRODID:-//wp-events-plugin.com//7.2.3.1//EN
TZID:Europe/Berlin
X-WR-TIMEZONE:Europe/Berlin
BEGIN:VEVENT
UID:575@gleisdreieck-blog.de
DTSTART;TZID=Europe/Berlin:20220901T200000
DTEND;TZID=Europe/Berlin:20220901T200000
DTSTAMP:20220814T105703Z
URL:https://gleisdreieck-blog.de/events/musethica-internationales-kammermu
 sik-festival-berlin-bar-konzert/
SUMMARY:Musethica – Internationales Kammermusik-Festival Berlin – Bar-K
 onzert
DESCRIPTION:mehr Info: https://www.kiez-am-kreuzberg.de/event/musethica-int
 ernationales-kammermusik-festival-berlin-bar-konzert/
CATEGORIES:Kiezwoche
LOCATION:Yorckschlösschen\, Yorckstraße 15\, Berlin\, Deutschland
GEO:52.49344;13.382000000000062
X-APPLE-STRUCTURED-LOCATION;VALUE=URI;X-ADDRESS=Yorckstraße 15\, Berlin\, 
 Deutschland;X-APPLE-RADIUS=100;X-TITLE=Yorckschlösschen:geo:52.49344,13.3
 82000000000062
END:VEVENT
BEGIN:VTIMEZONE
TZID:Europe/Berlin
X-LIC-LOCATION:Europe/Berlin
BEGIN:DAYLIGHT
DTSTART:20220327T030000
TZOFFSETFROM:+0100
TZOFFSETTO:+0200
TZNAME:CEST
END:DAYLIGHT
END:VTIMEZONE
END:VCALENDAR