BEGIN:VCALENDAR
VERSION:2.0
PRODID:-//wp-events-plugin.com//7.2.3.1//EN
TZID:Europe/Berlin
X-WR-TIMEZONE:Europe/Berlin
BEGIN:VEVENT
UID:655@gleisdreieck-blog.de
DTSTART;TZID=Europe/Berlin:20250223T150000
DTEND;TZID=Europe/Berlin:20250223T170000
DTSTAMP:20250213T194950Z
URL:https://gleisdreieck-blog.de/events/linsensuppe-und-begegnung/
SUMMARY:Wohin nach der Wahl?
DESCRIPTION:Linsensuppe und Begegnung\n
CATEGORIES:Termine,Zwölf-Apostel-Kirche
LOCATION:Zwölf-Apostel-Kirche\, An d. Apostelkirche 1\, Berlin\,  10783  \
 , Deutschland
X-APPLE-STRUCTURED-LOCATION;VALUE=URI;X-ADDRESS=An d. Apostelkirche 1\, Ber
 lin\,  10783  \, Deutschland;X-APPLE-RADIUS=100;X-TITLE=Zwölf-Apostel-Kir
 che:geo:0,0
END:VEVENT
BEGIN:VTIMEZONE
TZID:Europe/Berlin
X-LIC-LOCATION:Europe/Berlin
BEGIN:STANDARD
DTSTART:20241027T020000
TZOFFSETFROM:+0200
TZOFFSETTO:+0100
TZNAME:CET
END:STANDARD
END:VTIMEZONE
END:VCALENDAR