BEGIN:VCALENDAR
VERSION:2.0
PRODID:-//wp-events-plugin.com//7.2.3.1//EN
TZID:Europe/Berlin
X-WR-TIMEZONE:Europe/Berlin
BEGIN:VEVENT
UID:107@gleisdreieck-blog.de
DTSTART;TZID=Europe/Berlin:20150516T100000
DTEND;TZID=Europe/Berlin:20150516T120000
DTSTAMP:20150422T182535Z
URL:https://gleisdreieck-blog.de/events/leave-it-in-the-ground-film/
SUMMARY:Leave it in the ground - Film
DESCRIPTION:Leave it in the ground\nEin Film von Oliver Ressler\, 18 Min.\
 , 2013\n\nhttp://www.ressler.at/de/leave_it_in_the_ground/\n\nORT: Schöne
 berger Wiese\n\nDATUM: 16. Mai 2015\n\nZEIT: 10:00 - 12:00
CATEGORIES:Ein Hektar
LOCATION:Schöneberger Wiese\, Gleisdreieck\, Berlin\, Deutschland
GEO:52.49818110504988;13.371487817968728
X-APPLE-STRUCTURED-LOCATION;VALUE=URI;X-ADDRESS=Gleisdreieck\, Berlin\, Deu
 tschland;X-APPLE-RADIUS=100;X-TITLE=Schöneberger Wiese:geo:52.49818110504
 988,13.371487817968728
END:VEVENT
BEGIN:VTIMEZONE
TZID:Europe/Berlin
X-LIC-LOCATION:Europe/Berlin
BEGIN:DAYLIGHT
DTSTART:20150329T030000
TZOFFSETFROM:+0100
TZOFFSETTO:+0200
TZNAME:CEST
END:DAYLIGHT
END:VTIMEZONE
END:VCALENDAR