BEGIN:VCALENDAR
VERSION:2.0
PRODID:-//wp-events-plugin.com//7.2.3.1//EN
TZID:Europe/Berlin
X-WR-TIMEZONE:Europe/Berlin
BEGIN:VEVENT
UID:123@gleisdreieck-blog.de
DTSTART;TZID=Europe/Berlin:20150611T143000
DTEND;TZID=Europe/Berlin:20150611T143000
DTSTAMP:20150604T113118Z
URL:https://gleisdreieck-blog.de/events/kongress-gruen-in-der-stadt-exkurs
 ion-gleisdreieck/
SUMMARY:Kongress "Grün in der Stadt"\, Exkursion aufs Gleisdreieck
DESCRIPTION:Exkursion 3: Stadtgrün wertschätzen – Ökologisch\, sozial\
 , ökonomisch\nOrt: Park am Gleisdreieck\nThemen: Nordteil: Sport und Frei
 zeit\, Standortfaktor der Immobilienentwicklung\; Südteil: Ruderalvegetat
 ion\, Stadtnatur und Naturerfahrung\, der Park als Frischluftschneise\nDer
  Park am Gleisdreieck ist eine der jüngsten und beliebtesten Grünanlagen
  Berlins. Während er im nördlichen Bereich als Sport- und Erholungspark 
 gestaltet ist\, überwiegen im südlichen Bereich naturnahe Elemente. Ein 
 spezielles Pflege- und Managementkonzept trägt ebenfalls zur dauerhaften 
 Attraktivität des Parks bei. Die intensive Bautätigkeit am Rande belegt\
 , welchen immobilienwirtschaftlichen Effekt eine solche qualitätsvolle Gr
 ünanlage auslösen kann.\n\nMehr Infos: http://grün-in-der-stadt.de/\n\n
 Anmeldung nicht mehr möglich\, ausgebucht.
CATEGORIES:Termine
LOCATION:Gleisdreieck\, Gleisdreieck\, Berlin\, Deutschland
GEO:52.4994874;13.374234399999978
X-APPLE-STRUCTURED-LOCATION;VALUE=URI;X-ADDRESS=Gleisdreieck\, Berlin\, Deu
 tschland;X-APPLE-RADIUS=100;X-TITLE=Gleisdreieck:geo:52.4994874,13.3742343
 99999978
END:VEVENT
BEGIN:VTIMEZONE
TZID:Europe/Berlin
X-LIC-LOCATION:Europe/Berlin
BEGIN:DAYLIGHT
DTSTART:20150329T030000
TZOFFSETFROM:+0100
TZOFFSETTO:+0200
TZNAME:CEST
END:DAYLIGHT
END:VTIMEZONE
END:VCALENDAR