BEGIN:VCALENDAR
VERSION:2.0
PRODID:-//wp-events-plugin.com//7.2.3.1//EN
TZID:Europe/Berlin
X-WR-TIMEZONE:Europe/Berlin
BEGIN:VEVENT
UID:663@gleisdreieck-blog.de
DTSTART;TZID=Europe/Berlin:20250515T190000
DTEND;TZID=Europe/Berlin:20250515T190000
DTSTAMP:20250512T212050Z
URL:https://gleisdreieck-blog.de/events/kiezratschlag-kreuzberg-9/
SUMMARY:Kiezratschlag Kreuzberg
DESCRIPTION:
CATEGORIES:Termine
LOCATION:Kiezraum Dragoner-Areal\, Mehringdamm\, Berlin\, 10963 \, Deutschl
 and
X-APPLE-STRUCTURED-LOCATION;VALUE=URI;X-ADDRESS=Mehringdamm\, Berlin\, 1096
 3 \, Deutschland;X-APPLE-RADIUS=100;X-TITLE=Kiezraum Dragoner-Areal:geo:0,
 0
END:VEVENT
BEGIN:VTIMEZONE
TZID:Europe/Berlin
X-LIC-LOCATION:Europe/Berlin
BEGIN:DAYLIGHT
DTSTART:20250330T030000
TZOFFSETFROM:+0100
TZOFFSETTO:+0200
TZNAME:CEST
END:DAYLIGHT
END:VTIMEZONE
END:VCALENDAR