BEGIN:VCALENDAR
VERSION:2.0
PRODID:-//wp-events-plugin.com//7.2.3.1//EN
TZID:Europe/Berlin
X-WR-TIMEZONE:Europe/Berlin
BEGIN:VEVENT
UID:654@gleisdreieck-blog.de
DTSTART;TZID=Europe/Berlin:20241116T150000
DTEND;TZID=Europe/Berlin:20241116T180000
DTSTAMP:20241114T195908Z
URL:https://gleisdreieck-blog.de/events/kiez-der-zukunft-lokale-ideen-fuer
 -nachhaltigkeit-und-klimawende/
SUMMARY:Kiez der Zukunft: Lokale Ideen für Nachhaltigkeit und Klimawende
DESCRIPTION:Nachbarschaftszentrum Huzur\n\n\n\n\nBülowstr. 94 (Ecke Froben
 str.)\nRäume: großer Saal und evtl. ein großer Nebenraum (Nebenraum noc
 h in Klärung)\nDie Räume sind für uns von 13:30 bis 19:30 Uhr reservier
 t.\nWeitere Vorbereitungstreffen (für die Veranstaltung am 16.11.24):\n\n
  	Dienstag\, 01.10.24\, 19:00 bis ca. 20:30 Uhr\, im Café der Kiezoase\, 
 Barbarossastr. 65\n 	Dienstag\, 05.11.24\, 19:00 bis ca. 20:30 Uhr\, im Ca
 fé der Kiezoase\, Barbarossastr. 65\n 	Infos aus unserer Runde am 27.08.2
 4:\n\nAnwesend: Akazienkiezblock\, Initiative Kiez Winternollemotz\, Proje
 kt Regenwassertankstellen\, AG Wärmewende Schöneberg-Nord\, Nachbarschaf
 ts- und Familienzentrum Kiezoase\nBislang zusätzlich kontaktiert: Changin
 g Cities\, Barbarossakiezblock\, Ini Monumentenkiez\, Plan B\, Nachbarscha
 ftsbrot\, ADFC\, fLotte Berlin / fLotte Sozial\, BUND Mobilitätsbildung\n
 Weitere Initiativen und Aktive werden angefragt. Lokaler Bezug gewünscht.
 \nVeranstaltungsstruktur (noch in Planung\; mehr am 01.10. und 05.11.):\n\
 n 	Ankommen\, Begrüßung und kurzes Intro der anwesenden Initiativen\n 	S
 tände der Initiativen / Informationen\, was es bereits in unseren Kiezen 
 gibt (Inis und Ansätze sichtbar machen) / Workshops / World-Café (oder a
 ndere Methoden)\n 	gemeinsame Runde / Austausch / Ideen für zukünftige Z
 usammenarbeit bzw. gegenseitige Unterstützung / Abschlussdiskussion\n\nIc
 h freue mich auf unser nächstes Treffen am 01.10..\nHerzliche Grüße\nJ
 örn\n\n\n\n
CATEGORIES:Termine
LOCATION:Huzur\, Bülowstraße 94\, Berlin\, 10783\, Deutschland
GEO:52.49888;13.359900000000039
X-APPLE-STRUCTURED-LOCATION;VALUE=URI;X-ADDRESS=Bülowstraße 94\, Berlin\,
  10783\, Deutschland;X-APPLE-RADIUS=100;X-TITLE=Huzur:geo:52.49888,13.3599
 00000000039
END:VEVENT
BEGIN:VTIMEZONE
TZID:Europe/Berlin
X-LIC-LOCATION:Europe/Berlin
BEGIN:STANDARD
DTSTART:20241027T020000
TZOFFSETFROM:+0200
TZOFFSETTO:+0100
TZNAME:CET
END:STANDARD
END:VTIMEZONE
END:VCALENDAR