BEGIN:VCALENDAR
VERSION:2.0
PRODID:-//wp-events-plugin.com//7.2.3.1//EN
TZID:Europe/Berlin
X-WR-TIMEZONE:Europe/Berlin
BEGIN:VEVENT
UID:657@gleisdreieck-blog.de
DTSTART;TZID=Europe/Berlin:20250321T170000
DTEND;TZID=Europe/Berlin:20250321T170000
DTSTAMP:20250317T201852Z
URL:https://gleisdreieck-blog.de/events/infoveranstaltung-im-cafe-moeca/
SUMMARY:Infoveranstaltung im Café Möca
DESCRIPTION:Infoveranstaltung im Café Möca zu den Unterlassungsklagen geg
 en die Aktionsgemeinschaft Gleisdreieck e.V. und gegen Matthias Bauer als 
 Autor von gleisdreieck-blog.de\n\nNach drei Abmahnungen im letzten Jahr ha
 t die Urbane Mitte Besitz S.à.r.l. nun Klage eingereicht. Mit der Klage s
 ollen die kritischen Meinungen zum Einfluss des Bauvorhabens mit den siebe
 n Türmen auf das Klima\, zum Umgang mit dem Natur- und Artenschutz\, zur 
 Sicherheitsproblematik\, zum Denkmalschutz und zur Bodenspekulation angegr
 iffen werden.\n\nDie AG Gleisdreieck und Matthias Bauer sehen jedoch\, wie
  bisher\, keinen Grund Unterlassungserklärungen abzugeben. Vor Gericht we
 rden sie ihre Einschätzungen belegen und für die Freiheit der kritischen
  Meinung kämpfen.\n\nMatthias Bauer wird für die Aktionsgemeinschaft Gle
 isdreieck e.V. über den Stand des Verfahrens berichten.
CATEGORIES:Termine
LOCATION:Möca Café\, Möckernkiez 2\, Berlin \, 10963 \, Deutschland
X-APPLE-STRUCTURED-LOCATION;VALUE=URI;X-ADDRESS=Möckernkiez 2\, Berlin \, 
 10963 \, Deutschland;X-APPLE-RADIUS=100;X-TITLE=Möca Café:geo:0,0
END:VEVENT
BEGIN:VTIMEZONE
TZID:Europe/Berlin
X-LIC-LOCATION:Europe/Berlin
BEGIN:STANDARD
DTSTART:20241027T020000
TZOFFSETFROM:+0200
TZOFFSETTO:+0100
TZNAME:CET
END:STANDARD
END:VTIMEZONE
END:VCALENDAR