BEGIN:VCALENDAR
VERSION:2.0
PRODID:-//wp-events-plugin.com//7.2.3.1//EN
TZID:Europe/Berlin
X-WR-TIMEZONE:Europe/Berlin
BEGIN:VEVENT
UID:658@gleisdreieck-blog.de
DTSTART;TZID=Europe/Berlin:20250328T160000
DTEND;TZID=Europe/Berlin:20250328T160000
DTSTAMP:20250317T202019Z
URL:https://gleisdreieck-blog.de/events/infoveranstaltung-im-cafe-eule/
SUMMARY:Infoveranstaltung im Café Eule
DESCRIPTION:Infoveranstaltung im Café Eule zu den Unterlassungsklagen gege
 n die Aktionsgemeinschaft Gleisdreieck e.V. und gegen Matthias Bauer als A
 utor von gleisdreieck-blog.de\n\nNach drei Abmahnungen im letzten Jahr hat
  die Urbane Mitte Besitz S.à.r.l. nun Klage eingereicht. Mit der Klage so
 llen die kritischen Meinungen zum Einfluss des Bauvorhabens mit den sieben
  Türmen auf das Klima\, zum Umgang mit dem Natur- und Artenschutz\, zur S
 icherheitsproblematik\, zum Denkmalschutz und zur Bodenspekulation angegri
 ffen werden.\n\nDie AG Gleisdreieck und Matthias Bauer sehen jedoch\, wie 
 bisher\, keinen Grund Unterlassungserklärungen abzugeben. Vor Gericht wer
 den sie ihre Einschätzungen belegen und für die Freiheit der kritischen 
 Meinung kämpfen.\n\nMatthias Bauer wird für die Aktionsgemeinschaft Glei
 sdreieck e.V. über den Stand des Verfahrens berichten.
CATEGORIES:Termine
LOCATION:Café Eule\, Marktplatz\, Westpark des Gleisdreiecks\, Berlin\, De
 utschland
GEO:52.498011;13.368768
X-APPLE-STRUCTURED-LOCATION;VALUE=URI;X-ADDRESS=Westpark des Gleisdreiecks\
 , Berlin\, Deutschland;X-APPLE-RADIUS=100;X-TITLE=Café Eule\, Marktplatz:
 geo:52.498011,13.368768
END:VEVENT
BEGIN:VTIMEZONE
TZID:Europe/Berlin
X-LIC-LOCATION:Europe/Berlin
BEGIN:STANDARD
DTSTART:20241027T020000
TZOFFSETFROM:+0200
TZOFFSETTO:+0100
TZNAME:CET
END:STANDARD
END:VTIMEZONE
END:VCALENDAR