BEGIN:VCALENDAR
VERSION:2.0
PRODID:-//wp-events-plugin.com//7.2.3.1//EN
TZID:Europe/Berlin
X-WR-TIMEZONE:Europe/Berlin
BEGIN:VEVENT
UID:648@gleisdreieck-blog.de
DTSTART;TZID=Europe/Berlin:20240912T190000
DTEND;TZID=Europe/Berlin:20240912T190000
DTSTAMP:20240829T094234Z
URL:https://gleisdreieck-blog.de/events/grossbauprojekte-im-stadtteil-beto
 n-zerstoerung-und-verdraengung/
SUMMARY:Großbauprojekte im Stadtteil - Beton\, Zerstörung und Verdrängun
 g
DESCRIPTION:Veranstalter: Stadtteilinitiative Wem Gehört Kreuzberg\n\nim R
 ahmen der Kiezwoche:\n\nhttps://www.kiez-am-kreuzberg.de/kiezwoche-2024/
CATEGORIES:Termine
LOCATION:Kiezraum Dragoner-Areal\, Mehringdamm\, Berlin\, 10963 \, Deutschl
 and
X-APPLE-STRUCTURED-LOCATION;VALUE=URI;X-ADDRESS=Mehringdamm\, Berlin\, 1096
 3 \, Deutschland;X-APPLE-RADIUS=100;X-TITLE=Kiezraum Dragoner-Areal:geo:0,
 0
END:VEVENT
BEGIN:VTIMEZONE
TZID:Europe/Berlin
X-LIC-LOCATION:Europe/Berlin
BEGIN:DAYLIGHT
DTSTART:20240331T030000
TZOFFSETFROM:+0100
TZOFFSETTO:+0200
TZNAME:CEST
END:DAYLIGHT
END:VTIMEZONE
END:VCALENDAR