BEGIN:VCALENDAR
VERSION:2.0
PRODID:-//wp-events-plugin.com//7.2.3.1//EN
TZID:Europe/Berlin
X-WR-TIMEZONE:Europe/Berlin
BEGIN:VEVENT
UID:576@gleisdreieck-blog.de
DTSTART;TZID=Europe/Berlin:20220902T160000
DTEND;TZID=Europe/Berlin:20220902T160000
DTSTAMP:20220814T110501Z
URL:https://gleisdreieck-blog.de/events/gewusst-wie-in-30-minuten/
SUMMARY:Gewusst wie . . . in 30 Minuten
DESCRIPTION:mehr Info: https://www.kiez-am-kreuzberg.de/event/gewusst-wie-i
 n-30-minuten/\n\n&nbsp\;
CATEGORIES:Kiezwoche
LOCATION:Amerika-Gedenk-Bibliothek\, ZLB\,  Blücherplatz 1\, Berlin \, 109
 61\, Deutschland
X-APPLE-STRUCTURED-LOCATION;VALUE=URI;X-ADDRESS= Blücherplatz 1\, Berlin \
 , 10961\, Deutschland;X-APPLE-RADIUS=100;X-TITLE=Amerika-Gedenk-Bibliothek
 \, ZLB:geo:0,0
END:VEVENT
BEGIN:VTIMEZONE
TZID:Europe/Berlin
X-LIC-LOCATION:Europe/Berlin
BEGIN:DAYLIGHT
DTSTART:20220327T030000
TZOFFSETFROM:+0100
TZOFFSETTO:+0200
TZNAME:CEST
END:DAYLIGHT
END:VTIMEZONE
END:VCALENDAR