BEGIN:VCALENDAR
VERSION:2.0
PRODID:-//wp-events-plugin.com//7.2.3.1//EN
TZID:Europe/Berlin
X-WR-TIMEZONE:Europe/Berlin
BEGIN:VEVENT
UID:294@gleisdreieck-blog.de
DTSTART;TZID=Europe/Berlin:20170921T100000
DTEND;TZID=Europe/Berlin:20170921T100000
DTSTAMP:20170914T134940Z
URL:https://gleisdreieck-blog.de/events/gespraeche-mit-den-direktkandidate
 n-zur-bundestagswahl-wahlkreis-tempelhof-schoeneberg/
SUMMARY:Gespräch mit den Direktkandidaten zur Bundestagswahl\, Wahlkreis T
 empelhof-Schöneberg
DESCRIPTION:Liebe Eltern\, liebe Nachbarn!\nHaben Sie Fragen an die Kandida
 tinnen und Kandidaten der Bundestagswahl 2017?\nDann kommen Sie einfach vo
 rbei am:\nDonnerstag\, 21. September 2017 um 10 Uhr\nmit:\n\n 	Alexander K
 ing (Die Linke)\n 	Dr. Jan-Marco Luczak (CDU)\n 	Notker Schweikhardt (Bün
 dnis 90/ Die Grünen)\n 	Mechthild Rawert (SPD)\n\nWir freuen uns auf Sie 
 und Ihre Fragen!\n\nNachbarschaftszentrum\nSteinmetzstraße 68\n10783 Berl
 in\nTel. 030-23608688\nE-Mail: steinmetz@pfh-berlin.de\n\n
CATEGORIES:Termine
LOCATION:Nachbarschaftszentrum Steinmetzstraße\, Steinmetzstraße 68\, Ber
 lin\, 10783\, Deutschland
GEO:52.49689;13.364029999999957
X-APPLE-STRUCTURED-LOCATION;VALUE=URI;X-ADDRESS=Steinmetzstraße 68\, Berli
 n\, 10783\, Deutschland;X-APPLE-RADIUS=100;X-TITLE=Nachbarschaftszentrum S
 teinmetzstraße:geo:52.49689,13.364029999999957
END:VEVENT
BEGIN:VTIMEZONE
TZID:Europe/Berlin
X-LIC-LOCATION:Europe/Berlin
BEGIN:DAYLIGHT
DTSTART:20170326T030000
TZOFFSETFROM:+0100
TZOFFSETTO:+0200
TZNAME:CEST
END:DAYLIGHT
END:VTIMEZONE
END:VCALENDAR