BEGIN:VCALENDAR
VERSION:2.0
PRODID:-//wp-events-plugin.com//7.2.3.1//EN
TZID:Europe/Berlin
X-WR-TIMEZONE:Europe/Berlin
BEGIN:VEVENT
UID:681@gleisdreieck-blog.de
DTSTART;TZID=Europe/Berlin:20251111T170000
DTEND;TZID=Europe/Berlin:20251111T170000
DTSTAMP:20251105T110522Z
URL:https://gleisdreieck-blog.de/events/gespraech-zur-aktuellen-lage-im-ne
 lly-sachs-park/
SUMMARY:Gespräch zur aktuellen Lage im Nelly-Sachs-Park
DESCRIPTION:
CATEGORIES:Termine
LOCATION:Haus der Luthergemeinde\, Bülowstraße 71\, Berlin\, Berlin \, 10
 783\, Deutschland
X-APPLE-STRUCTURED-LOCATION;VALUE=URI;X-ADDRESS=Bülowstraße 71\, Berlin\,
  Berlin \, 10783\, Deutschland;X-APPLE-RADIUS=100;X-TITLE=Haus der Lutherg
 emeinde:geo:0,0
END:VEVENT
BEGIN:VTIMEZONE
TZID:Europe/Berlin
X-LIC-LOCATION:Europe/Berlin
BEGIN:STANDARD
DTSTART:20251026T020000
TZOFFSETFROM:+0200
TZOFFSETTO:+0100
TZNAME:CET
END:STANDARD
END:VTIMEZONE
END:VCALENDAR