BEGIN:VCALENDAR
VERSION:2.0
PRODID:-//wp-events-plugin.com//7.2.3.1//EN
TZID:Europe/Berlin
X-WR-TIMEZONE:Europe/Berlin
BEGIN:VEVENT
UID:643@gleisdreieck-blog.de
DTSTART;TZID=Europe/Berlin:20240706T150000
DTEND;TZID=Europe/Berlin:20240706T180000
DTSTAMP:20240625T123933Z
URL:https://gleisdreieck-blog.de/events/gedenkveranstaltung-anlaesslich-de
 s-jahrestages-des-massakers-von-srebrenica/
SUMMARY:Gedenkveranstaltung anlässlich des Jahrestages des Massakers von S
 rebrenica
DESCRIPTION:Lieber Freundeskreis südost\,\n\nanlässlich des Jahrestages d
 es Massakers von Srebrenica am 11. Juli 1995 und den darauffolgenden Tagen
  laden wir zu einer Gedenkveranstaltung am 06. Juli in der Zeit von 15.00 
 bis 18.00 Uhr in unseren Interkulturellen Garten Rosenduft ein.\n\nNähere
  Informationen finden Sie in der Einladung im Anhang.\n\nMit herzlichen Gr
 üßen\n\nIhr südost-Team\n\n\n\n&nbsp\;
CATEGORIES:Termine
LOCATION:Interkultureller Garten Rosenduft\, Möckernstraße\, Berlin\, Deu
 tschland
GEO:52.492487714903206;13.375152442822241
X-APPLE-STRUCTURED-LOCATION;VALUE=URI;X-ADDRESS=Möckernstraße\, Berlin\, 
 Deutschland;X-APPLE-RADIUS=100;X-TITLE=Interkultureller Garten Rosenduft:g
 eo:52.492487714903206,13.375152442822241
END:VEVENT
BEGIN:VTIMEZONE
TZID:Europe/Berlin
X-LIC-LOCATION:Europe/Berlin
BEGIN:DAYLIGHT
DTSTART:20240331T030000
TZOFFSETFROM:+0100
TZOFFSETTO:+0200
TZNAME:CEST
END:DAYLIGHT
END:VTIMEZONE
END:VCALENDAR