BEGIN:VCALENDAR
VERSION:2.0
PRODID:-//wp-events-plugin.com//7.2.3.1//EN
TZID:Europe/Berlin
X-WR-TIMEZONE:Europe/Berlin
BEGIN:VEVENT
UID:664@gleisdreieck-blog.de
DTSTART;TZID=Europe/Berlin:20250518T110000
DTEND;TZID=Europe/Berlin:20250518T110000
DTSTAMP:20250514T120005Z
URL:https://gleisdreieck-blog.de/events/gedenkspaziergang-ueber-die-genthi
 ner-strasse/
SUMMARY:Gedenkspaziergang über die Genthiner Straße
DESCRIPTION:Wie bereits im Februar angekündigt\, veranstaltet die SPD-Tier
 garten Süd am 18.Mai eine Gedenkspaziergang über die Genthiner Straße.\
 n\nDie AfD ist vom Verfassungsschutz als gesichert rechtsextrem und verfas
 sungsfeindlich eingestuft worden\, aber sie stellt sich als Opfer staatlic
 her Willkür dar. Schon einmal haben faschistische Demagogen sich als Opfe
 r dargestellt – bis sie an die Macht gekommen waren.\n\nWir wollen den w
 irklichen Opfern gedenken! Denn wer nicht erinnert der vergisst\, und verg
 isst\, kann wieder schuldig werden!\n\nWir treffen uns am 18. Mai um 11 Uh
 r an der Zwölf-Apostel-Kirche\n\n&nbsp\;Im Gedenken an Margot Friedlände
 r: Seid Menschen!\n\nMit vielen Grüßen\n\nDr. Bergis Schmidt-Ehry&nbsp\;
 \n\n
CATEGORIES:Termine
LOCATION:Zwölf-Apostel-Kirche\, Kurfürstenstraße 140\, Berlin\, 10785\, 
 Deutschland
X-APPLE-STRUCTURED-LOCATION;VALUE=URI;X-ADDRESS=Kurfürstenstraße 140\, Be
 rlin\, 10785\, Deutschland;X-APPLE-RADIUS=100;X-TITLE=Zwölf-Apostel-Kirch
 e:geo:0,0
END:VEVENT
BEGIN:VTIMEZONE
TZID:Europe/Berlin
X-LIC-LOCATION:Europe/Berlin
BEGIN:DAYLIGHT
DTSTART:20250330T030000
TZOFFSETFROM:+0100
TZOFFSETTO:+0200
TZNAME:CEST
END:DAYLIGHT
END:VTIMEZONE
END:VCALENDAR