BEGIN:VCALENDAR
VERSION:2.0
PRODID:-//wp-events-plugin.com//7.2.3.1//EN
TZID:Europe/Berlin
X-WR-TIMEZONE:Europe/Berlin
BEGIN:VEVENT
UID:662@gleisdreieck-blog.de
DTSTART;TZID=Europe/Berlin:20250517T140000
DTEND;TZID=Europe/Berlin:20250517T180000
DTSTAMP:20250516T125329Z
URL:https://gleisdreieck-blog.de/events/gartenfest-19-jahre-interkulturell
 er-garten-rosenduft/
SUMMARY:Fällt aus wegen Regenwetter - Gartenfest - 19 Jahre Interkulturell
 er Garten Rosenduft
DESCRIPTION:Lieber Freundeskreis südost\,\n\nleider sind die Wetterprognos
 en für unser Gartenfest\, welches wir für morgen\, Samstag den 17. Mai\,
  geplant hatten\, so kalt und nass\, dass wir uns dazu entschlossen haben\
 , den Termin abzusagen und zu verschieben.\nWir hoffen\, dann bei Sonnensc
 hein und milden Temperaturen den Geburtstag unseres Gartens nachfeiern zu 
 können. Für alle Beteiligten macht das mehr Freude als unter den jetzige
 n Bedingungen.\nWir bitte um Verständnis und freuen uns\, euch bald wiede
 r im Garten begrüßen zu dürfen.\n\nAls neuen Termin planen wir den 14. 
 Juni. Eine ausführliche Einladung folgt in ca. zwei Wochen.\n\nMit herzli
 chen Grüßen\n\neuer südost-Team\n\n[gallery link="file" columns="1" siz
 e="full" ids="13867"]
CATEGORIES:Termine
LOCATION:Interkultureller Garten Rosenduft\, Möckernstraße\, Berlin\, Deu
 tschland
GEO:52.492487714903206;13.375152442822241
X-APPLE-STRUCTURED-LOCATION;VALUE=URI;X-ADDRESS=Möckernstraße\, Berlin\, 
 Deutschland;X-APPLE-RADIUS=100;X-TITLE=Interkultureller Garten Rosenduft:g
 eo:52.492487714903206,13.375152442822241
END:VEVENT
BEGIN:VTIMEZONE
TZID:Europe/Berlin
X-LIC-LOCATION:Europe/Berlin
BEGIN:DAYLIGHT
DTSTART:20250330T030000
TZOFFSETFROM:+0100
TZOFFSETTO:+0200
TZNAME:CEST
END:DAYLIGHT
END:VTIMEZONE
END:VCALENDAR