BEGIN:VCALENDAR
VERSION:2.0
PRODID:-//wp-events-plugin.com//7.2.3.1//EN
TZID:Europe/Berlin
X-WR-TIMEZONE:Europe/Berlin
BEGIN:VEVENT
UID:691@gleisdreieck-blog.de
DTSTART;TZID=Europe/Berlin:20260509T143000
DTEND;TZID=Europe/Berlin:20260509T160000
DTSTAMP:20260401T105531Z
URL:https://gleisdreieck-blog.de/events/flott-gehen-gemeinsam-gemuetlich-s
 pazieren-gehen/
SUMMARY:Flott gehen – gemeinsam (gemütlich) spazieren gehen
DESCRIPTION:Gemütlicher Spaziergang durch den Park am Gleisdreieck. Am End
 e ist ein gemeinsames Kaffeetrinken im Café Möca im Möckernkiez möglic
 h\n(nahegelegene Bushaltestelle M19).\n\nToiletten sind am Start und am Zi
 el vorhanden. Eventuell kann es unebene Parkwege geben.\n\nTreffpunkt\nvor
  dem Eingang der Biocompany\, Yorckstraße 37\, 10965 Berlin\nAnfahrt: S+U
  Yorckstraße (S1\, S2\, S25\, S26 und U7)\n\nAnsprechperson\nJörn Brenss
 ell (Mobile Stadtteilarbeit Kiezoase)\nTelefon: 0151 15 077478\nE-Mail an 
 Jörn Brenssell (joern.brenssell@pfh-berlin.de)\n\nBitte um Anmeldung.\n\n
 Hinweis: "Flott gehen - gemeinsam (gemütlich) spazieren gehen" findet imm
 er am zweiten Samstag im Monat statt\, 14:30 bis 16:00 Uhr\, unterschiedli
 che Treffpunkte und unterschiedliche Routen\; Informationen und Anmeldung 
 bei Jörn Brenssell.\n\nDer Spaziergang findet statt im Rahmne der Aktion:
 &nbsp\; Ge(h)meinsam unterwegs! Aktionsmonat Spazierengehen rund um den Ma
 i 2026\n\nDas komplette Programm&nbsp\; ist zu finden auf der Seit des Bez
 irksamtes Tempelhof-Schöneberg&nbsp\;\n\nhttps://www.berlin.de/ba-tempelh
 of-schoeneberg/politik-und-verwaltung/service-und-organisationseinheiten/p
 lanungs-und-koordinierungsstelle-gesundheit/artikel.1549299.php\n\n&nbsp\;
END:VEVENT
BEGIN:VTIMEZONE
TZID:Europe/Berlin
X-LIC-LOCATION:Europe/Berlin
BEGIN:DAYLIGHT
DTSTART:20260329T030000
TZOFFSETFROM:+0100
TZOFFSETTO:+0200
TZNAME:CEST
END:DAYLIGHT
END:VTIMEZONE
END:VCALENDAR