BEGIN:VCALENDAR
VERSION:2.0
PRODID:-//wp-events-plugin.com//7.2.3.1//EN
TZID:Europe/Berlin
X-WR-TIMEZONE:Europe/Berlin
BEGIN:VEVENT
UID:653@gleisdreieck-blog.de
DTSTART;TZID=Europe/Berlin:20241031T180000
DTEND;TZID=Europe/Berlin:20241031T180000
DTSTAMP:20241028T084612Z
URL:https://gleisdreieck-blog.de/events/filmabend-woodstock-3-days-of-peac
 e-and-music-teil-2/
SUMMARY:Filmabend: Woodstock - 3 days of peace and music\, Teil 2
DESCRIPTION:
CATEGORIES:Termine
LOCATION:Forum Möckernkiez\, Möckernkiez 2\, Berlin\, 10963\, Deutschland
X-APPLE-STRUCTURED-LOCATION;VALUE=URI;X-ADDRESS=Möckernkiez 2\, Berlin\, 1
 0963\, Deutschland;X-APPLE-RADIUS=100;X-TITLE=Forum Möckernkiez:geo:0,0
END:VEVENT
BEGIN:VTIMEZONE
TZID:Europe/Berlin
X-LIC-LOCATION:Europe/Berlin
BEGIN:STANDARD
DTSTART:20241027T020000
TZOFFSETFROM:+0200
TZOFFSETTO:+0100
TZNAME:CET
END:STANDARD
END:VTIMEZONE
END:VCALENDAR