BEGIN:VCALENDAR
VERSION:2.0
PRODID:-//wp-events-plugin.com//7.2.3.1//EN
TZID:Europe/Berlin
X-WR-TIMEZONE:Europe/Berlin
BEGIN:VEVENT
UID:661@gleisdreieck-blog.de
DTSTART;TZID=Europe/Berlin;VALUE=DATE:20250427
DTEND;TZID=Europe/Berlin;VALUE=DATE:20250428
DTSTAMP:20250425T115402Z
URL:https://gleisdreieck-blog.de/events/fahrradtag-im-deutschen-technikmus
 eum/
SUMMARY:Fahrradtag im Deutschen Technikmuseum
DESCRIPTION:\nPressemitteilung des Deutschen Technikmuseums\n\n\n\nFahrradt
 ag im Deutschen Technikmuseum!\nAm Sonntag\, 27. April\, dreht sich im Mus
 eum alles ums Rad / Viele Aktionen draußen/ freier Eintritt für Besuchen
 de mit Fahrrad an Sonder-Eingang im Museumspark\nDas Deutsche Technikmuseu
 m in Berlin läutet mit einem besonderen Aktionstag die Rad- und Parksaiso
 n ein! Am Sonntag\, 27. April 2025\, dreht sich im Deutschen Technikmuseum
  alles ums Fahrrad. Von 10 bis 17 Uhr lädt das Museum gemeinsam mit zahlr
 eichen Partnerinnen und Partnern zum großen Fahrradtag ein – mit Aktion
 en\, Infos und Workshops für Groß und Klein. Ob Verkehrssicherheit\, Tec
 hnik oder Nachhaltigkeit – der Fahrradtag bietet ein vielfältiges Progr
 amm.\n\nIm Angebot sind unter anderem eine Führung durch die aktuelle Son
 derausstellung „Rückenwind. Mehr Stadt fürs Rad!“\, Mitmach-Aktionen
  wie das Farbschleuderrad von kidsbike e.V.\, der Workshop „Fahrradschla
 uch flicken – selbst reparieren lernen“ oder Lastenräder zum Ausprobi
 eren. Der ADFC bietet einen Fahrrad-Check an und die Polizei Berlin codier
 t Fahrräder zum Schutz vor Diebstahl und lädt zum Verkehrssicherheits-Tr
 aining ein. Einige Aktionen finden im angrenzenden Park Gleisdreieck statt
 . An Infoständen stehen unter anderem das Berliner Zentrum Industriekultu
 r und die „Omas for Future“ für Gespräche und Aktivitäten zur Verf
 ügung.\n\nDer besondere Tipp:&nbsp\;Wer sein Rad mitbringt\, bekommt am M
 useumspark-Eingang (bei den Windmühlen) freien Eintritt für diesen beson
 deren Tag im Deutschen Technikmuseum! Der Eintritt für alle weiteren Besu
 chenden erfolgt mit dem regulären Museumsticket über die üblichen Eing
 änge.\n\nAktionen und Mitmach-Angebote im Überblick:\n\n 	Polizei Berlin
  (11–16 Uhr): Codierung zur Fahrradsicherung &amp\; Verkehrssicherheits-
 Traing\n 	Fahrradschlauch flicken – selbst reparieren lernen\n 	kidsbike
  Farbschleuderrad – Kreativwerkstatt für Kinder\n 	ADFC-Stand (10–17 
 Uhr) Fahrradcheck im Park Gleisdreieck\n 	ONO Bike Workshop (11–16 Uhr):
  Fahrrad-Technik einfach erkunden\n 	fLotte (11–16 Uhr): Lastenräder zu
 m Ausprobieren im Park Gleisdreieck\n 	Sonderausstellung Rückenwind (13 U
 hr): Führung durch die Ausstellung\n\nInfostände mit Aktivitäts-Program
 m (11–16 Uhr):\n\n 	BZI (Berliner Zentrum für Industriekultur)\n 	Omas 
 for Future\n 	Podcast "Rückenwind" – Hörstation live\n 	Österreich To
 urismus – Radurlaub erleben\n 	Berlin 2037 – Zukunft der Mobilität\n\
 nService &amp\; Verpflegung:\n\n 	Food-Container mit leckeren Snacks\n 	Fa
 hrradständer vor Ort\n 	Zugang zum Eingang Museumspark über den Park Gle
 isdreieck und die Ladestraße\n\nhttps://technikmuseum.berlin/pressemittei
 lung/fahrradtag-im-deutschen-technikmuseum/#:~:text=und%20Parksaison%20ein
 !-\,Am%20Sonntag%2C%2027.\,Workshops%20f%C3%BCr%20Gro%C3%9F%20und%20Klein.
 \n\n\n
CATEGORIES:Termine
LOCATION:Deutsches Technikmuseum\, Trebbiner Straße 9\, Berlin\, Deutschla
 nd
GEO:52.49862779999999;13.376844300000016
X-APPLE-STRUCTURED-LOCATION;VALUE=URI;X-ADDRESS=Trebbiner Straße 9\, Berli
 n\, Deutschland;X-APPLE-RADIUS=100;X-TITLE=Deutsches Technikmuseum:geo:52.
 49862779999999,13.376844300000016
END:VEVENT
BEGIN:VTIMEZONE
TZID:Europe/Berlin
X-LIC-LOCATION:Europe/Berlin
BEGIN:DAYLIGHT
DTSTART:20250330T030000
TZOFFSETFROM:+0100
TZOFFSETTO:+0200
TZNAME:CEST
END:DAYLIGHT
END:VTIMEZONE
END:VCALENDAR