BEGIN:VCALENDAR
VERSION:2.0
PRODID:-//wp-events-plugin.com//7.2.3.1//EN
TZID:Europe/Berlin
X-WR-TIMEZONE:Europe/Berlin
BEGIN:VEVENT
UID:101@gleisdreieck-blog.de
DTSTART;TZID=Europe/Berlin:20150503T140000
DTEND;TZID=Europe/Berlin:20150503T170000
DTSTAMP:20150422T181208Z
URL:https://gleisdreieck-blog.de/events/erde-als-lehrerin-seminar-mit-hild
 egard-kurt-4/
SUMMARY:Erde als Lehrerin  - Seminar mit Hildegard Kurt
DESCRIPTION:Erde als Lehrerin\nSeminar mit Hildegard Kurt\n\nZur Anmeldung
  http://events-iass-potsdam.de/event.php?vnr=4c-108&amp\;mid=1\n\nORT:Vere
 insheim der Kleingartenkolonie „Potsdamer Güterbahnhof“\n\nDATUM: 3. 
 Mai 2015\n\nZEIT:14:00 - 17:00\n\nHILDEGARD KURT
CATEGORIES:Ein Hektar
LOCATION:Vereinsheim POG\, Gleisdreieck\, Berlin\, Deutschland
GEO:52.49623460206909;13.36765224702151
X-APPLE-STRUCTURED-LOCATION;VALUE=URI;X-ADDRESS=Gleisdreieck\, Berlin\, Deu
 tschland;X-APPLE-RADIUS=100;X-TITLE=Vereinsheim POG:geo:52.49623460206909,
 13.36765224702151
END:VEVENT
BEGIN:VTIMEZONE
TZID:Europe/Berlin
X-LIC-LOCATION:Europe/Berlin
BEGIN:DAYLIGHT
DTSTART:20150329T030000
TZOFFSETFROM:+0100
TZOFFSETTO:+0200
TZNAME:CEST
END:DAYLIGHT
END:VTIMEZONE
END:VCALENDAR