BEGIN:VCALENDAR
VERSION:2.0
PRODID:-//wp-events-plugin.com//7.2.3.1//EN
TZID:Europe/Berlin
X-WR-TIMEZONE:Europe/Berlin
BEGIN:VEVENT
UID:644@gleisdreieck-blog.de
DTSTART;TZID=Europe/Berlin:20240706T110000
DTEND;TZID=Europe/Berlin:20240706T110000
DTSTAMP:20240701T151716Z
URL:https://gleisdreieck-blog.de/events/einweihung-erinnerungsort-gleis-1/
SUMMARY:Einweihung Erinnerungsort Gleis 1
DESCRIPTION:Liebe Leute\n\nvielleicht habt Ihr schon davon gehrört/gelesen
 : eine kleine AG im Möckernkiez befasst sich seit einiger Zeit mit der Ge
 schichte der Deportation von über 100.000 jüdischen Menschen nach Theres
 ienstadt. Die Transport-Waggons wurden an reguläre Züge angehängt\, die
  vom Gleis1 im Anhalter Bahnhof losfuhren.\n\nIm Zuge der Baumaßnahmen de
 s Möckernkiez wurde ein "Umleger" gesichert\, der nun als Mahnmal auf dem
  Kiezplatz an der Yorckstraße aufgestellt wird.\nDies findet statt am Sam
 stag\, 6. Juli um 11 Uhr.\nIhr seid alle herzlich eingeladen.\n\nDas Progr
 amm am 6. Juli als PDF-Dokument\n\nMehr Informationen zur Geschichte finde
 t Ihr im beiliegenden Flugblatt.\n\n\n\nSiehe Text auf diese Seiten:\n\nht
 tps://gleisdreieck-blog.de/2015/03/07/die-deportation-der-juden-aus-berlin
 -auch-ein-thema-fur-den-anhalter-bahnhof-und-den-gleisdreieck-park/
CATEGORIES:Termine
LOCATION:Kieztreffpunkt Möckernkiez\, Möckernkiez 2\, Berlin\, 10956\, De
 utschland
X-APPLE-STRUCTURED-LOCATION;VALUE=URI;X-ADDRESS=Möckernkiez 2\, Berlin\, 1
 0956\, Deutschland;X-APPLE-RADIUS=100;X-TITLE=Kieztreffpunkt Möckernkiez:
 geo:0,0
END:VEVENT
BEGIN:VTIMEZONE
TZID:Europe/Berlin
X-LIC-LOCATION:Europe/Berlin
BEGIN:DAYLIGHT
DTSTART:20240331T030000
TZOFFSETFROM:+0100
TZOFFSETTO:+0200
TZNAME:CEST
END:DAYLIGHT
END:VTIMEZONE
END:VCALENDAR