BEGIN:VCALENDAR
VERSION:2.0
PRODID:-//wp-events-plugin.com//7.2.3.1//EN
TZID:Europe/Berlin
X-WR-TIMEZONE:Europe/Berlin
BEGIN:VEVENT
UID:690@gleisdreieck-blog.de
DTSTART;TZID=Europe/Berlin:20260320T153000
DTEND;TZID=Europe/Berlin:20260320T160000
DTSTAMP:20260309T170425Z
URL:https://gleisdreieck-blog.de/events/einweihung-der-informationstafel-z
 ur-ofenbaufirma-h-kori-gmbh/
SUMMARY:Einweihung der  Informationstafel zur Ofenbaufirma H. Kori GmbH
DESCRIPTION:\nNeue Informationstafel zur Ofenbaufirma H. Kori GmbH\n\n\n\nP
 ressemitteilung Nr. 081 vom 06.03.2026\n\nTempelhof-Schöneberg macht Tät
 erort am Park am Gleisdreieck sichtbar\nDas Bezirksamt lädt die Bürger_i
 nnen sowie die Vertreter_innen der Presse herzlich zur Einweihung einer ne
 uen Informationstafel in Tempelhof-Schöneberg ein:\n\n\n\n\n\n\nInformati
 onstafel zur Ofenbaufirma H. Kori GmbH\n\nDie Einweihung findet statt\nam 
 Freitag\, 20. März 2026\nvon 15:30 Uhr bis 16:00 Uhr\nin der Dennewitzstr
 aße Ecke Kurfürstenstraße in 10783 Berlin.\n\n\n\n\n\n\n\nDie Firma Kor
 i entwickelte sich ab 1939 zu einem Partner des nationalsozialistischen Re
 gimes und installierte in vielen Konzentrationslagern Öfen\, welche die S
 puren des millionenfachen Massenmords beseitigten. Die neue Informationsta
 fel\, die das Bezirksamt auf Beschluss der Bezirksverordnetenversammlung T
 empelhof-Schöneberg aufstellen wird\, macht die Geschichte der Dennewitzs
 traße 35 nun wieder sichtbar und mahnt so vor einer Wiederholung der Grä
 ueltaten.\n\nDie Veranstaltung am Park am Gleisdreieck verbindet die Enth
 üllung der Informationstafel mit einem Grußwort des Bezirksbürgermeiste
 rs und einem Kurzvortrag von Herrn Norbert Peters\, der ehrenamtlich die G
 eschichte des Gleisdreiecks erforscht.\n\nWir freuen uns auf Ihr Kommen.\n
 \n\n\n\n\n&nbsp\;\n\nKontakt\n\n\nBezirksamt Tempelhof-Schöneberg\nBüro 
 des Bezirksbürgermeisters\nPia Reinhardt\nE-Mail an Pia Reinhardt\nTelefo
 n: +49 30 90277-645\n\nB1eiträge zu KORI auf diesen Seiten:&nbsp\; https:
 //gleisdreieck-blog.de/tag/kori/\n\n\n\n\n
END:VEVENT
BEGIN:VTIMEZONE
TZID:Europe/Berlin
X-LIC-LOCATION:Europe/Berlin
BEGIN:STANDARD
DTSTART:20251026T020000
TZOFFSETFROM:+0200
TZOFFSETTO:+0100
TZNAME:CET
END:STANDARD
END:VTIMEZONE
END:VCALENDAR