BEGIN:VCALENDAR
VERSION:2.0
PRODID:-//wp-events-plugin.com//7.2.3.1//EN
TZID:Europe/Berlin
X-WR-TIMEZONE:Europe/Berlin
BEGIN:VEVENT
UID:276@gleisdreieck-blog.de
DTSTART;TZID=Europe/Berlin:20170906T190000
DTEND;TZID=Europe/Berlin:20170906T190000
DTSTAMP:20170830T191604Z
URL:https://gleisdreieck-blog.de/events/die-lange-geschichte-des-dragonera
 reals/
SUMMARY:Die lange Geschichte des Dragonerareals
DESCRIPTION:Mittwoch 6. September\, 19.00 Uhr:\n\nDie lange Geschichte des 
 Dragonerareals - Vom Kasernenbau um die Mitte des 19. Jahrhunderts zum Jan
 uaraufstand 1919 über gescheiterte Veräußerungsversuche in jüngerer Ze
 it und gegenwärtige Nachbarschaftsaktivitäten auf dem Gelände bis hin z
 u Zukunftsplanungen und -visionen. Eine Informations- und Diskussionsveran
 taltung mit Beteiligung verschiedener Initiativen und mit kultureller Begl
 eitung.\n\nOrt: Gretchen-Club auf dem Gelände (Eingang Obentrautstr.)
CATEGORIES:Kiezwoche
LOCATION:Gretchen-Club\, Obentrautstraße 19-21\, Berlin\, Deutschland
GEO:52.49626199999999;13.388179000000036
X-APPLE-STRUCTURED-LOCATION;VALUE=URI;X-ADDRESS=Obentrautstraße 19-21\, Be
 rlin\, Deutschland;X-APPLE-RADIUS=100;X-TITLE=Gretchen-Club:geo:52.4962619
 9999999,13.388179000000036
END:VEVENT
BEGIN:VTIMEZONE
TZID:Europe/Berlin
X-LIC-LOCATION:Europe/Berlin
BEGIN:DAYLIGHT
DTSTART:20170326T030000
TZOFFSETFROM:+0100
TZOFFSETTO:+0200
TZNAME:CEST
END:DAYLIGHT
END:VTIMEZONE
END:VCALENDAR