BEGIN:VCALENDAR
VERSION:2.0
PRODID:-//wp-events-plugin.com//7.2.3.1//EN
TZID:Europe/Berlin
X-WR-TIMEZONE:Europe/Berlin
BEGIN:VEVENT
UID:97@gleisdreieck-blog.de
DTSTART;TZID=Europe/Berlin:20150502T120000
DTEND;TZID=Europe/Berlin:20150502T180000
DTSTAMP:20150422T180133Z
URL:https://gleisdreieck-blog.de/events/der-boden-lebt-forscherlabor-erde-
 workshop/
SUMMARY:Der Boden lebt – Forscherlabor Erde - WORKSHOP
DESCRIPTION:Der Boden lebt – Forscherlabor Erde\n\nORT:Schöneberger Wies
 e\n\nDATUM:2. Mai 2015\n\nZEIT:12:00 - 18:00
CATEGORIES:Ein Hektar
LOCATION:Schöneberger Wiese\, Gleisdreieck\, Berlin\, Deutschland
GEO:52.49818110504988;13.371487817968728
X-APPLE-STRUCTURED-LOCATION;VALUE=URI;X-ADDRESS=Gleisdreieck\, Berlin\, Deu
 tschland;X-APPLE-RADIUS=100;X-TITLE=Schöneberger Wiese:geo:52.49818110504
 988,13.371487817968728
END:VEVENT
BEGIN:VTIMEZONE
TZID:Europe/Berlin
X-LIC-LOCATION:Europe/Berlin
BEGIN:DAYLIGHT
DTSTART:20150329T030000
TZOFFSETFROM:+0100
TZOFFSETTO:+0200
TZNAME:CEST
END:DAYLIGHT
END:VTIMEZONE
END:VCALENDAR