BEGIN:VCALENDAR
VERSION:2.0
PRODID:-//wp-events-plugin.com//7.2.3.1//EN
TZID:Europe/Berlin
X-WR-TIMEZONE:Europe/Berlin
BEGIN:VEVENT
UID:684@gleisdreieck-blog.de
DTSTART;TZID=Europe/Berlin:20251209T180000
DTEND;TZID=Europe/Berlin:20251209T180000
DTSTAMP:20251129T141135Z
URL:https://gleisdreieck-blog.de/events/debatte-um-die-urbane-mitte-im-kue
 hlhaus/
SUMMARY:Debatte um die Urbane Mitte im Kühlhaus
DESCRIPTION:Für den Abend haben wir Politiker:innen aus dem Abgeordnetenha
 us (AGH) und aus der Bezirksverordnetenversammlung ( BVV) von CDU\, SPD\, 
 Grünen und Linken eingeladen. Wir wollen nur kurz über den Verlauf der G
 erichtsverhandlung berichten\, dia am Vormittag stattfand.\nHauptsächlich
  wollen wir an diesem Abend erfahren\, wie die Politiker:innen - nachdem s
 ie hunderte von E-Mails bekommen haben - die Bebauungspläne der Urbane Mi
 tte am Gleisdreieck sehen. Im September sollte ja der Bebauungsplan für d
 as südliche Baufeld zu Abstimmung kommen\, bisher wurde es jedoch immer v
 erschoben. Aber wie geht es weiter?\n\nIhre Teilnahme haben bisher zugesag
 t:\n\n 	SPD: Sven Heinemann (AGH) und Frank Vollmert (BVV)\n 	Linke: Dr. M
 ichael Efler (AGH) und Gaby Gottwald (BVV)\n 	B90/Grüne: Julian Schwarze 
 (AGH) und Maria Haberer (BVV)\n\nVon der CDU haben wir bisher leider Absag
 en bekommen. Wir werden uns jedoch weiter bemühen\, auch Gesprächspartne
 r aus der CDU zu finden.\n\nMatthias Bauer\, Aktionsgemeinschaft Gleisdrei
 eck e.V.&nbsp\;\n\n&nbsp\;\n\n\n\nhttps://gleisdreieck-blog.de/2025/11/28/
 einladung-zu-zwei-veranstaltungen-am-9-dezember/
CATEGORIES:Termine
LOCATION:Kühlhaus Berlin\, Luckenwalder Straße 3\, Berlin\, 10963\, Deuts
 chland
GEO:52.49974;13.3764
X-APPLE-STRUCTURED-LOCATION;VALUE=URI;X-ADDRESS=Luckenwalder Straße 3\, Be
 rlin\, 10963\, Deutschland;X-APPLE-RADIUS=100;X-TITLE=Kühlhaus Berlin:geo
 :52.49974,13.3764
END:VEVENT
BEGIN:VTIMEZONE
TZID:Europe/Berlin
X-LIC-LOCATION:Europe/Berlin
BEGIN:STANDARD
DTSTART:20251026T020000
TZOFFSETFROM:+0200
TZOFFSETTO:+0100
TZNAME:CET
END:STANDARD
END:VTIMEZONE
END:VCALENDAR