BEGIN:VCALENDAR
VERSION:2.0
PRODID:-//wp-events-plugin.com//7.2.3.1//EN
TZID:Europe/Berlin
X-WR-TIMEZONE:Europe/Berlin
BEGIN:VEVENT
UID:574@gleisdreieck-blog.de
DTSTART;TZID=Europe/Berlin:20220901T190000
DTEND;TZID=Europe/Berlin:20220901T190000
DTSTAMP:20220814T105601Z
URL:https://gleisdreieck-blog.de/events/christuskirche-besichtigung-und-in
 formationsabend-zu-umbau-und-heizungssystem/
SUMMARY:Christuskirche: Besichtigung und Informationsabend zu Umbau und Hei
 zungssystem
DESCRIPTION:mehr Info: https://www.kiez-am-kreuzberg.de/event/christuskirch
 e-besichtigung-und-informationsabend-zu-umbau-und-heizungssystem/
CATEGORIES:Kiezwoche
LOCATION:Christus-Kirche\, Hornstraße 7-8\, Berlin\, Deutschland
GEO:52.49462;13.381629999999973
X-APPLE-STRUCTURED-LOCATION;VALUE=URI;X-ADDRESS=Hornstraße 7-8\, Berlin\, 
 Deutschland;X-APPLE-RADIUS=100;X-TITLE=Christus-Kirche:geo:52.49462,13.381
 629999999973
END:VEVENT
BEGIN:VTIMEZONE
TZID:Europe/Berlin
X-LIC-LOCATION:Europe/Berlin
BEGIN:DAYLIGHT
DTSTART:20220327T030000
TZOFFSETFROM:+0100
TZOFFSETTO:+0200
TZNAME:CEST
END:DAYLIGHT
END:VTIMEZONE
END:VCALENDAR