BEGIN:VCALENDAR
VERSION:2.0
PRODID:-//wp-events-plugin.com//7.2.3.1//EN
TZID:Europe/Berlin
X-WR-TIMEZONE:Europe/Berlin
BEGIN:VEVENT
UID:656@gleisdreieck-blog.de
DTSTART;TZID=Europe/Berlin:20250320T180000
DTEND;TZID=Europe/Berlin:20250320T180000
DTSTAMP:20250317T131909Z
URL:https://gleisdreieck-blog.de/events/ausschuss-fuer-stadtentwicklung/
SUMMARY:Ausschuss für Stadtentwicklung
DESCRIPTION:
CATEGORIES:Termine
LOCATION:Rathaus Kreuzberg\, Yorckstraße 4-11\, Berlin\, Deutschland
GEO:52.493452;13.38584000000003
X-APPLE-STRUCTURED-LOCATION;VALUE=URI;X-ADDRESS=Yorckstraße 4-11\, Berlin\
 , Deutschland;X-APPLE-RADIUS=100;X-TITLE=Rathaus Kreuzberg:geo:52.493452,1
 3.38584000000003
END:VEVENT
BEGIN:VTIMEZONE
TZID:Europe/Berlin
X-LIC-LOCATION:Europe/Berlin
BEGIN:STANDARD
DTSTART:20241027T020000
TZOFFSETFROM:+0200
TZOFFSETTO:+0100
TZNAME:CET
END:STANDARD
END:VTIMEZONE
END:VCALENDAR