BEGIN:VCALENDAR
VERSION:2.0
PRODID:-//wp-events-plugin.com//7.2.3.1//EN
TZID:Europe/Berlin
X-WR-TIMEZONE:Europe/Berlin
BEGIN:VEVENT
UID:646@gleisdreieck-blog.de
DTSTART;TZID=Europe/Berlin:20240905T100000
DTEND;TZID=Europe/Berlin:20240905T150000
DTSTAMP:20240829T093308Z
URL:https://gleisdreieck-blog.de/events/aktionstag-inklusiver-park-im-glei
 sdreieckpark/
SUMMARY:Aktionstag Inklusiver Park im Gleisdreieckpark
DESCRIPTION:Aktionstag „Inklusiver Park“ am Do 5.9.2024 von 10 bis 15 U
 hr im Gleisdreieckpark (Ostpark/südlicher Teil – zwischen Möckernkiez\
 , Projektgarten Rosenduft und Kiosk Hornstraße.\n\nAm Anfang stand 2022 d
 ie Frage: Wie inklusiv ist der Gleisdreieckpark in der Praxis? Die Frage t
 auchte auf\, als verschiedene Einrichtungen in Tiergarten Süd und Schöne
 berg Nord berichteten\, dass Ältere den Park meiden. Sie fühlen sich uns
 icher bei der gemeinsamen Nutzung der Wege mit Radfahrern. Deshalb meiden 
 sie den Park. Wie muss sich der Park verändern\, dass Ältere ihn wieder 
 gern nutzen?\n\n&nbsp\;\n\nMehr Info:\n\nhttps://moeckernkiez-ev.de/Wordpr
 ess_MK/events/event/aktionstag-inklusiver-park-im-gleisdreieckpark/
CATEGORIES:Termine
END:VEVENT
BEGIN:VTIMEZONE
TZID:Europe/Berlin
X-LIC-LOCATION:Europe/Berlin
BEGIN:DAYLIGHT
DTSTART:20240331T030000
TZOFFSETFROM:+0100
TZOFFSETTO:+0200
TZNAME:CEST
END:DAYLIGHT
END:VTIMEZONE
END:VCALENDAR