BEGIN:VCALENDAR
VERSION:2.0
PRODID:-//wp-events-plugin.com//7.2.3.1//EN
TZID:Europe/Berlin
X-WR-TIMEZONE:Europe/Berlin
BEGIN:VEVENT
UID:660@gleisdreieck-blog.de
DTSTART;TZID=Europe/Berlin:20250410T170000
DTEND;TZID=Europe/Berlin:20250410T200000
DTSTAMP:20250405T162119Z
URL:https://gleisdreieck-blog.de/events/abschlussveranstaltung-der-wahlen-
 zum-parkbeirat/
SUMMARY:Abschlussveranstaltung der Wahlen zum Parkbeirat
DESCRIPTION:Den Abschluss findet die Wahlkampagne mit einer großen Veranst
 altung am Donnerstag\, den 10. April von 17 bis 20 Uhr im Kiezraum auf dem
  Dragonergelände. Dass liegt hinter dem Finanzamt Kreuzberg\, Zugang von 
 der Ecke Mehringdamm/Obentrautstraße.\n\nDie 16 Kandiatinnen werden sich 
 nochmal vorstellen\, dann&nbsp\; bis 18 Uhr kann noch gewählt werden.&nbs
 p\;\n\nWeiter Infos zur Wahl auf der Seite der Grün Berlin GmbH.&nbsp\;
CATEGORIES:Termine
LOCATION:Kiezraum Dragoner-Areal\, Mehringdamm\, Berlin\, 10963 \, Deutschl
 and
X-APPLE-STRUCTURED-LOCATION;VALUE=URI;X-ADDRESS=Mehringdamm\, Berlin\, 1096
 3 \, Deutschland;X-APPLE-RADIUS=100;X-TITLE=Kiezraum Dragoner-Areal:geo:0,
 0
END:VEVENT
BEGIN:VTIMEZONE
TZID:Europe/Berlin
X-LIC-LOCATION:Europe/Berlin
BEGIN:DAYLIGHT
DTSTART:20250330T030000
TZOFFSETFROM:+0100
TZOFFSETTO:+0200
TZNAME:CEST
END:DAYLIGHT
END:VTIMEZONE
END:VCALENDAR